BEGIN:VCALENDAR
VERSION:2.0
PRODID:-//wp-events-plugin.com//7.2.3.1//EN
TZID:America/New_York
X-WR-TIMEZONE:America/New_York
BEGIN:VEVENT
UID:344@annapolistemple.org
DTSTART;TZID=America/New_York:20201210T190000
DTEND;TZID=America/New_York:20201210T200000
DTSTAMP:20201116T223419Z
URL:https://www.annapolistemple.org/events/light-the-lot-a-hanukkah-celebr
 ation/
SUMMARY:Light the Lot - A Hanukkah Celebration
DESCRIPTION:
CATEGORIES:Upcoming Events
END:VEVENT
BEGIN:VTIMEZONE
TZID:America/New_York
X-LIC-LOCATION:America/New_York
BEGIN:STANDARD
DTSTART:20201101T010000
TZOFFSETFROM:-0400
TZOFFSETTO:-0500
TZNAME:EST
END:STANDARD
END:VTIMEZONE
END:VCALENDAR